BEGIN:VCALENDAR
VERSION:2.0
PRODID:-//--TheSceneInTO - ECPv6.5.1.5//NONSGML v1.0//EN
CALSCALE:GREGORIAN
METHOD:PUBLISH
X-ORIGINAL-URL:https://thesceneinto.com
X-WR-CALDESC:Events for --TheSceneInTO
REFRESH-INTERVAL;VALUE=DURATION:PT1H
X-Robots-Tag:noindex
X-PUBLISHED-TTL:PT1H
BEGIN:VTIMEZONE
TZID:America/Toronto
BEGIN:DAYLIGHT
TZOFFSETFROM:-0500
TZOFFSETTO:-0400
TZNAME:EDT
DTSTART:20190310T070000
END:DAYLIGHT
BEGIN:STANDARD
TZOFFSETFROM:-0400
TZOFFSETTO:-0500
TZNAME:EST
DTSTART:20191103T060000
END:STANDARD
END:VTIMEZONE
BEGIN:VEVENT
DTSTART;TZID=America/Toronto:20190123T190000
DTEND;TZID=America/Toronto:20190123T233000
DTSTAMP:20260420T111004
CREATED:20190117T205831Z
LAST-MODIFIED:20190117T205831Z
UID:17572-1548270000-1548286200@thesceneinto.com
SUMMARY:88Glam Hits Mod Club
DESCRIPTION:Canadian hip hop duo\, 88GLAM\, who The Weeknd signed to his XO label and have MILLIONS of streams\, are doing their first Canadian tour this month and stopping in Toronto on January 23 at the Mod Club. \nALBUM:\nhttps://soundcloud.com/88-glam-88-glam/sets/88glam2-1 \n“Bali” video (14 MILLION PLAYS on YT / 37 M on Spotify):\nhttps://youtu.be/9TZxpQlOjls \n“Lil Boat” video:\nhttps://youtu.be/1yKSRPwsPSA \n“12” video (3 MILLION PLAYS on YT):\nhttps://youtu.be/TpgwhHFH6Rw
URL:https://thesceneinto.com/event/88glam-hits-mod-club/
LOCATION:The Mod Club\,  722 College Street \, Toronto\, Ontario\, M6G 1C5\, Canada
ATTACH;FMTTYPE=image/jpeg:https://thesceneinto.com/wp-content/uploads/2019/01/88glam-PR.jpg
END:VEVENT
END:VCALENDAR