BEGIN:VCALENDAR
VERSION:2.0
PRODID:-//--TheSceneInTO - ECPv6.5.1.5//NONSGML v1.0//EN
CALSCALE:GREGORIAN
METHOD:PUBLISH
X-ORIGINAL-URL:https://thesceneinto.com
X-WR-CALDESC:Events for --TheSceneInTO
REFRESH-INTERVAL;VALUE=DURATION:PT1H
X-Robots-Tag:noindex
X-PUBLISHED-TTL:PT1H
BEGIN:VTIMEZONE
TZID:America/Toronto
BEGIN:DAYLIGHT
TZOFFSETFROM:-0500
TZOFFSETTO:-0400
TZNAME:EDT
DTSTART:20190310T070000
END:DAYLIGHT
BEGIN:STANDARD
TZOFFSETFROM:-0400
TZOFFSETTO:-0500
TZNAME:EST
DTSTART:20191103T060000
END:STANDARD
BEGIN:DAYLIGHT
TZOFFSETFROM:-0500
TZOFFSETTO:-0400
TZNAME:EDT
DTSTART:20200308T070000
END:DAYLIGHT
BEGIN:STANDARD
TZOFFSETFROM:-0400
TZOFFSETTO:-0500
TZNAME:EST
DTSTART:20201101T060000
END:STANDARD
END:VTIMEZONE
BEGIN:VEVENT
DTSTART;TZID=America/Toronto:20191104T200000
DTEND;TZID=America/Toronto:20191104T233000
DTSTAMP:20260421T014036
CREATED:20191017T235412Z
LAST-MODIFIED:20191017T235412Z
UID:17882-1572897600-1572910200@thesceneinto.com
SUMMARY:Hip-hop duo Blimes and Gab (aka B.A.G)
DESCRIPTION:As part of their first national tour\, Hip-hop duo Blimes and Gab (aka B.A.G)\, from San Francisco and Seattle respectively\, are taking on the Adelaide Hall. They don’t rely on image or gimmicks and are a much needed voice in today’s hip-hop. Music is steeped in old-school hip-hop featuring rapid-fire delivery\, back-and-forth lyricism\, and expertly crafted hooks that’ve garnered them co-signs from the likes of hip-hop legends Warren G\, Method Man\, De La Soul\, Rah Digga and Souls of Mischief\, etc. \nPrevious single “Come Correct” went viral upon release and they just dropped their latest single “Feelin It” (links to music/videos below).\n\n“Feelin It”: https://orcd.co/blimesandgabfeelinitsingle\n“Come Correct” – https://youtu.be/c9OjAmM-cQ4\nListen/stream “Hot Damn” ft. Method Man (video has over 5.2M views): https://www.smarturl.it/hotdamn\n\nGet more info on their Facebook page
URL:https://thesceneinto.com/event/hip-hop-duo-blimes-and-gab-aka-b-a-g/
LOCATION:adelaide hall\, 250 adelaide st w.\, toronto
ATTACH;FMTTYPE=image/jpeg:https://thesceneinto.com/wp-content/uploads/2019/10/98-og.jpg
END:VEVENT
BEGIN:VEVENT
DTSTART;TZID=America/Toronto:20191109T183000
DTEND;TZID=America/Toronto:20191109T233000
DTSTAMP:20260421T014036
CREATED:20190923T010138Z
LAST-MODIFIED:20190923T010138Z
UID:17835-1573324200-1573342200@thesceneinto.com
SUMMARY:TWIN XL Phoenix Concert Theatre
DESCRIPTION:Rising alt-pop trio TWIN XL will be joining The Maine on the entirety of their ‘The Mirror’ Tour hitting 27 major markets nationwide this fall. The tour kicks off on October 21 in San Antonio\, TX and wraps on November 30 in Phoenix\, AZ and includes stops in New York City\, Boston\, Chicago\, Seattle\, and Portland. Tickets are available now for purchase on the band’s official website HERE. To kick off today’s announcement\, TWIN XL has launched a contest for fans to win tickets to see them perform with The Maine this fall.  CLICK HERE to enter. \n“Sonically\, we wanted to work in classic instruments\, synthesizers\, and vintage drum machines\,” explains John. “At the same time-because we love hip-hop-we blended these timeless elements with modern rhythmic tendencies. Our music is the result. It’s a mix of lo-fi and hi-fi with retro feels.”\n\n“When you can achieve that warmth\, it’s like listening to a tape or a record\,” Cameron adds. “That classic feeling is the goal.”\nPhoto Credit: KayKay Blaisdell
URL:https://thesceneinto.com/event/twin-xl-phoenix-concert-theatre/
LOCATION:Phoenix Concert Theatre\, 410 Sherbourne Street\,  Toronto\, Ontario\, M5X 1K2\, Canada
ATTACH;FMTTYPE=image/jpeg:https://thesceneinto.com/wp-content/uploads/2019/09/TWINXL1.jpg
END:VEVENT
BEGIN:VEVENT
DTSTART;TZID=America/Toronto:20191120T200000
DTEND;TZID=America/Toronto:20191120T233000
DTSTAMP:20260421T014036
CREATED:20190923T020005Z
LAST-MODIFIED:20190923T020005Z
UID:17851-1574280000-1574292600@thesceneinto.com
SUMMARY:Danny Brown plays The Phoenix Concert Theatre
DESCRIPTION:Danny Brown is about to drop the best album of his career- just when you’d think he couldn’t outdo himself\, uknowhatimsayin¿ (out 10/4 on WARP) does. He plays Baby’s All Right in New York on July 16 and I can guarantee it will be one of the most energy-driven / raucous / hilarious shows (he usually does a comedy bit at the end\, think Richard Pryor as his album art alludes to) – there’s really no one else like him in hip-hop (or frankly\, on this planet). It’s been almost 10 years since XXX (re-launched) him to fame and everything he’s put out since then (OLD\, Atrocity Exhbition) has been met with both critical and peer fanfare. He also recently launched his show Danny’s House on VICELAND\, with guests including A$AP Rocky\, Hannibal Buress\, Ilana Glazer\, Zack Fox etc.He announced his album with “Dirty Laundry” a few weeks ago and today shared the new Q-Tip produced single “Best Life” \n“Dirty Laundry” video: https://www.youtube.com/watch?v=1okqvhq7ZaI.\nBest Life: https://uknowhatimsayin.com/
URL:https://thesceneinto.com/event/danny-brown-plays-the-phoenix-concert-theatre/
LOCATION:Phoenix Concert Theatre\, 410 Sherbourne Street\,  Toronto\, Ontario\, M5X 1K2\, Canada
ATTACH;FMTTYPE=image/png:https://thesceneinto.com/wp-content/uploads/2019/09/danny-brown-uknowwhatimsayin.png
END:VEVENT
BEGIN:VEVENT
DTSTART;TZID=America/Toronto:20200306T193000
DTEND;TZID=America/Toronto:20200306T233000
DTSTAMP:20260421T014036
CREATED:20200227T083425Z
LAST-MODIFIED:20200305T084527Z
UID:17925-1583523000-1583537400@thesceneinto.com
SUMMARY:Sudan Archives Arrives at Longboat Hall
DESCRIPTION:Sudan Archives is going to be at Longboat Hall (Part of the Great Hall) on March 6th in support of her debut album Athena. The album (and preceding EPs\, all on Stones Throw) has gotten a *ton* of critical love (epic NYTimes feature\, NPR All Things Considered piece\, glowing review from Guardian\, Jools Holland performance\, etc.). She’s got an amazing look and a wholly original music aesthetic (largely self-produced) that blurs genre boundaries via a sly R&B vocal style\, experimental electronic textures\, classically-inclined violin melodies\, etc. \nShe just dropped this stunning video:
URL:https://thesceneinto.com/event/17925/
LOCATION:Longboat Hall\, 103 Dovercourt Rd\, Toronto\, Ontario\, M6J 3C2\, Canada
ATTACH;FMTTYPE=image/png:https://thesceneinto.com/wp-content/uploads/2020/03/sudan.png
END:VEVENT
BEGIN:VEVENT
DTSTART;TZID=America/Toronto:20200429T200000
DTEND;TZID=America/Toronto:20200429T233000
DTSTAMP:20260421T014036
CREATED:20200312T150104Z
LAST-MODIFIED:20200312T150104Z
UID:17944-1588190400-1588203000@thesceneinto.com
SUMMARY:Orion Sun Heats Up The Drake
DESCRIPTION:Fast-rising multi-instrumentalist\, singer-songwriter\, and producer Orion Sun is coming through The Drake on April 29th. Orion will be bringing all the feels with her phenomenal vocals and heart-touching personal yet relatable songs.\n\nIt’s in support of her debut album Hold Space For Me (out March 27 via Mom + Pop). She recently released two singles from her upcoming debut\, which she wrote and produced\, all on her own. She’s dynamic and incredibly talented\, her creativity knows no bounds as she also provided creative direction for her music videos. Her music is beautiful and ethereal\, but when paired with her unique sound\, it defies genre as she incorporates timeless folk\, jazz\, hip-hop\, and R&B instrumentals.\n\nShe’s someone that a lot of people can relate to and she’s about to go on tour with sold out shows and national buzz on her.\n\n“ [Coffee for Dinner] manages to suffuse a haunting concept with a unique kind of beauty” –THE FADER\n“This artist that has always loved stars and space is well on her way to becoming a star herself.” – NPR\n“the 23-year-old’s voice cuts through as poignant as ever” – HYPEBEAST\n  \nLISTEN TO / STREAM “NE ME QUITTE PAS (DON’T LEAVE ME)”\n\n \n\n\ncover photo by Sophie Hur
URL:https://thesceneinto.com/event/orion-sun-heats-up-the-drake/
LOCATION:Drake Underground\, 1150 Queen St. West  \, Toronto\, ON\, M6J 1J3\, Canada
ATTACH;FMTTYPE=image/jpeg:https://thesceneinto.com/wp-content/uploads/2020/03/Orion-Sun.jpeg
END:VEVENT
END:VCALENDAR